BEGIN:VCALENDAR
VERSION:2.0
PRODID:-//Jazz in Deutschland / Germany - ECPv6.15.20//NONSGML v1.0//EN
CALSCALE:GREGORIAN
METHOD:PUBLISH
X-WR-CALNAME:Jazz in Deutschland / Germany
X-ORIGINAL-URL:https://jazzpages.de
X-WR-CALDESC:Veranstaltungen für Jazz in Deutschland / Germany
REFRESH-INTERVAL;VALUE=DURATION:PT1H
X-Robots-Tag:noindex
X-PUBLISHED-TTL:PT1H
BEGIN:VTIMEZONE
TZID:Europe/Berlin
BEGIN:DAYLIGHT
TZOFFSETFROM:+0100
TZOFFSETTO:+0200
TZNAME:CEST
DTSTART:20240331T010000
END:DAYLIGHT
BEGIN:STANDARD
TZOFFSETFROM:+0200
TZOFFSETTO:+0100
TZNAME:CET
DTSTART:20241027T010000
END:STANDARD
BEGIN:DAYLIGHT
TZOFFSETFROM:+0100
TZOFFSETTO:+0200
TZNAME:CEST
DTSTART:20250330T010000
END:DAYLIGHT
BEGIN:STANDARD
TZOFFSETFROM:+0200
TZOFFSETTO:+0100
TZNAME:CET
DTSTART:20251026T010000
END:STANDARD
BEGIN:DAYLIGHT
TZOFFSETFROM:+0100
TZOFFSETTO:+0200
TZNAME:CEST
DTSTART:20260329T010000
END:DAYLIGHT
BEGIN:STANDARD
TZOFFSETFROM:+0200
TZOFFSETTO:+0100
TZNAME:CET
DTSTART:20261025T010000
END:STANDARD
END:VTIMEZONE
BEGIN:VEVENT
DTSTART;TZID=Europe/Berlin:20250214T200000
DTEND;TZID=Europe/Berlin:20250214T200000
DTSTAMP:20260420T015425
CREATED:20241204T205544Z
LAST-MODIFIED:20241204T205728Z
UID:45253-1739563200-1739563200@jazzpages.de
SUMMARY:FINK 70s REVISITED - Achter 69 (WIE)
DESCRIPTION:Silke Eberhard – saxTilo Weber – drumsJohannes Fink – cello \n\n\n\nDas geniale Trio verbindet auf virtuos spontane Weise Sensibilität\, Humor und Sympathie.Egal wo sie spielen\, das Publikum ist jedesmal begeistert! \n\n\n\nFinks Kompositionen beinhalten den Sound der 70er Jahre hin zu abstrakten Themen\, welche durch die besondere Instrumentierung unter Anwendung freier Improvisation zu einem Gesamtkunstwerk vollendet werden. Saxophon\, Cello und Schlagzeug bilden die perfekte Symbiose für dieses wunderbare Spektakel. \n\n\n\nVeranstaltungswebsite Achter Wiesbaden \n\n\n\n\n\n\n\n\n\n\n\n\n\n\n\nfacebook | instagram | schindelbeck.net© 1997 – today | ISSN 2751-4099
URL:https://jazzpages.de/event/fink-70s-revisited-achter-69-wie/
LOCATION:Kreativfabrik Wiesbaden e.V.\, Murnaustraße 2\, Wiesbaden\, 65189
CATEGORIES:Jazz
END:VEVENT
BEGIN:VEVENT
DTSTART;TZID=Europe/Berlin:20250226T200000
DTEND;TZID=Europe/Berlin:20250226T200000
DTSTAMP:20260420T015425
CREATED:20250225T220221Z
LAST-MODIFIED:20250225T220457Z
UID:45777-1740600000-1740600000@jazzpages.de
SUMMARY:Trio Toxodon (Wuppertal)
DESCRIPTION:Das Trio besteht aus Salome Amend (Vibraphon)\, Simon Camatta (Schlagzeug) und Raissa Mehner (E-Gitarre) die alle drei in Wuppertal (und weit darüber hinaus) sehr präsent und bestens bekannt sind – sind sie doch solo sowie in den unterschiedlichsten Formationen aktiv. Auch im ORT waren sie mit diesen schon häufig gern gesehene Gäste. Mit ihrem 2023 gegründeten Trio Toxodon  gehen die drei aber nun gemeinsam neue\, spannende Wege. Unlängst begeisterten sie mit dem neuen Sound das Publikum bei der Verleihung des Spielstättenprogrammpreises NRW im Dortmunder Domicil. \n\n\n\nDas Toxodon ist übrigens ein vor 13.000 Jahren ausgestorbenen Pflanzenfresser\, der entfernt an ein Nashorn ohne Horn erinnert. In tiefem Gedenken daran improvisiert sich das urzeitliche Trio durch hohes Gras und weite Steppen. Seit ihrer Open-Air-Bandgründung auf dem Moers Festival 2023 überleben die drei angeblich nur knapp mit Hilfe von Elektronik und pliozänem Klimbim – sagen sie selbst augenzwinkernd\, und weiter: „Aus dem Dickicht auftauchende Themenköpfe und wildwüchsige Eigenkompositionen zwingen sie\, sichere Trampelpfade zu verlassen. Toxodons kurze\, aber muskulöse Beine endeten nicht ohne Grund dreizehig\, sodass es uns noch heute gern als an-den-borstigen-Haaren-herbeigezogene Analogie zur Seite steht: Drei Zehen\, drei Silben\, drei Musiker:innen aus drei Städten verbinden Ruhrgebiet\, Rheinland und Bergisches Land und schaffen einen tollkühnen Wust aus halb-aquatischen Klangsphären und schroffen Independent Felsen.“
URL:https://jazzpages.de/event/hans-in-den-mai-tribute-to-hans-reichel-copy/
LOCATION:ORT Wuppertal\, Luisenstraße 116\, Wuppertal\, 42103
CATEGORIES:Jazz
END:VEVENT
END:VCALENDAR