BEGIN:VCALENDAR
VERSION:2.0
PRODID:-//Jazz in Deutschland / Germany - ECPv6.15.20//NONSGML v1.0//EN
CALSCALE:GREGORIAN
METHOD:PUBLISH
X-WR-CALNAME:Jazz in Deutschland / Germany
X-ORIGINAL-URL:https://jazzpages.de
X-WR-CALDESC:Veranstaltungen für Jazz in Deutschland / Germany
REFRESH-INTERVAL;VALUE=DURATION:PT1H
X-Robots-Tag:noindex
X-PUBLISHED-TTL:PT1H
BEGIN:VTIMEZONE
TZID:Europe/Berlin
BEGIN:DAYLIGHT
TZOFFSETFROM:+0100
TZOFFSETTO:+0200
TZNAME:CEST
DTSTART:20250330T010000
END:DAYLIGHT
BEGIN:STANDARD
TZOFFSETFROM:+0200
TZOFFSETTO:+0100
TZNAME:CET
DTSTART:20251026T010000
END:STANDARD
BEGIN:DAYLIGHT
TZOFFSETFROM:+0100
TZOFFSETTO:+0200
TZNAME:CEST
DTSTART:20260329T010000
END:DAYLIGHT
BEGIN:STANDARD
TZOFFSETFROM:+0200
TZOFFSETTO:+0100
TZNAME:CET
DTSTART:20261025T010000
END:STANDARD
BEGIN:DAYLIGHT
TZOFFSETFROM:+0100
TZOFFSETTO:+0200
TZNAME:CEST
DTSTART:20270328T010000
END:DAYLIGHT
BEGIN:STANDARD
TZOFFSETFROM:+0200
TZOFFSETTO:+0100
TZNAME:CET
DTSTART:20271031T010000
END:STANDARD
END:VTIMEZONE
BEGIN:VEVENT
DTSTART;TZID=Europe/Berlin:20260419T200000
DTEND;TZID=Europe/Berlin:20260419T200000
DTSTAMP:20260421T111254
CREATED:20260109T102215Z
LAST-MODIFIED:20260109T102430Z
UID:49412-1776628800-1776628800@jazzpages.de
SUMMARY:Daniel Stelter Trio feat. Menna Mulugeta (Neckargemünd)
DESCRIPTION:Daniel Stelter ist ein Gitarrist der in seiner künstlerischen Vielfalt\, Brillanz und Umtriebigkeit seinesgleichen sucht. Mit seinem unnachahmlichen\, unaufgeregten und doch einprägsamen Stil hat Daniel Stelter sich schon längst einen Namen in der deutschen Jazz-Szene gemacht. Im Herbst 2025 erschien sein neues Album „Wooden Songs“ (o-tone music)\,  das sehr naturverbundene Töne anstimmt. Fünfzehn Tracks\, allesamt One-Takes\, inspiriert von Klang\, Duft\, Haptik und den schier unendlichen Farbnuancen\, widmet Stelter sein siebtes Album dem organischen Material „Holz“. Eine atmosphärische Reflexion\, die uns durch Wälder und Weinberge über die Alpen bis an den Bosporus führt. Stelters klassisch angehauchtes\, fast gesangliches Spiel auf der Nylonsaitengitarre\, Tommy Baldus charakteristischer Schlagzeug- und Percussion Sound und Michael Pauckers akustischer Bass kommunizieren miteinander – wie die Bäume des Waldes – und bilden eine eigene natürliche Sprache\, die sich zu einem zeitlosen Sound verbindet. Als besonderer Gast komplettiert die temperamentvolle Sängerin Menna Mulugeta das Quartett. Mit ihrem Charme und ihrer Bühnenpräsenz wird die musikalische Reise sehr abwechslungsreich und bezaubernd.
URL:https://jazzpages.de/event/daniel-stelter-trio-feat-menna-mulugeta-neckargemnd/
LOCATION:Altes E-Werk Neckargemünd\, Dilsberger Str. 32\, Neckargemünd\, 69151\, Germany
ATTACH;FMTTYPE=image/webp:https://jazzpages.de/wp-content/uploads/2025/12/Jazzpages-Jazzkalender-photo-schindelbeck-FS_06790.webp
END:VEVENT
END:VCALENDAR